BEGIN:VCALENDAR
VERSION:2.0
PRODID:-//The Park People - ECPv6.15.20//NONSGML v1.0//EN
CALSCALE:GREGORIAN
METHOD:PUBLISH
X-WR-CALNAME:The Park People
X-ORIGINAL-URL:https://theparkpeople.org
X-WR-CALDESC:Events for The Park People
REFRESH-INTERVAL;VALUE=DURATION:PT1H
X-Robots-Tag:noindex
X-PUBLISHED-TTL:PT1H
BEGIN:VTIMEZONE
TZID:America/Denver
BEGIN:DAYLIGHT
TZOFFSETFROM:-0700
TZOFFSETTO:-0600
TZNAME:MDT
DTSTART:20240310T090000
END:DAYLIGHT
BEGIN:STANDARD
TZOFFSETFROM:-0600
TZOFFSETTO:-0700
TZNAME:MST
DTSTART:20241103T080000
END:STANDARD
BEGIN:DAYLIGHT
TZOFFSETFROM:-0700
TZOFFSETTO:-0600
TZNAME:MDT
DTSTART:20250309T090000
END:DAYLIGHT
BEGIN:STANDARD
TZOFFSETFROM:-0600
TZOFFSETTO:-0700
TZNAME:MST
DTSTART:20251102T080000
END:STANDARD
BEGIN:DAYLIGHT
TZOFFSETFROM:-0700
TZOFFSETTO:-0600
TZNAME:MDT
DTSTART:20260308T090000
END:DAYLIGHT
BEGIN:STANDARD
TZOFFSETFROM:-0600
TZOFFSETTO:-0700
TZNAME:MST
DTSTART:20261101T080000
END:STANDARD
END:VTIMEZONE
BEGIN:VEVENT
DTSTART;TZID=America/Denver:20251019T140000
DTEND;TZID=America/Denver:20251019T170000
DTSTAMP:20260424T061309
CREATED:20251002T233720Z
LAST-MODIFIED:20251007T205615Z
UID:35465-1760882400-1760893200@theparkpeople.org
SUMMARY:Tabling at Hilltop Halloween Festival
DESCRIPTION:Please stop by The Park People’s table at this fun family-friendly party at the park\, the Hilltop Halloween Festival. The Park People is proud to have partnered with neighborhood leaders to spearhead a capital campaign for park improvements at Cranmer Park in Hilltop\, including restoration and repair to the historic 6-foot Sundial Plaza. We’re glad to continue to support community gatherings in our beautiful neighborhood parks. \nCheck out the full schedule of festival events at Hilltop Halloween Festival site. \nWould you like to volunteer to represent The Park People by tabling at the event\, and chatting with community members about our tree programs? \nRSVP HERE TO VOLUNTEER.\nNot Park People volunteer yet? We’d love to have you join our passionate volunteer community! Please complete our online Volunteer Application.
URL:https://theparkpeople.org/event/tabling-at-hilltop-halloween-festival/
LOCATION:Robinson Park\, 200 Fairfax Street\, Denver\, 80220\, United States
CATEGORIES:Tabling,Volunteer Opportunity
ATTACH;FMTTYPE=image/png:https://theparkpeople.org/wp-content/uploads/2025/10/Tabling.png
END:VEVENT
END:VCALENDAR